BEGIN:VCALENDAR
VERSION:2.0
PRODID:-//eventon.com NONSGML v1.0//EN
CALSCALE:GREGORIAN
METHOD:PUBLISH
BEGIN:VEVENT
UID:69e736d9531ea
DTSTAMP:20260421T083537Z
DTSTART:20260817T130000Z
DTEND:20260817T210000Z
LOCATION:Cherry Creek Golf Course 52000 Cherry Creek Dr
SUMMARY:2026 6th Annual Golf Outing
DESCRIPTION:2026 6th Annual Golf Outing\nhttps://www.michiganiada.org/news/
 events/2026-6th-annual-golf-outing/
URL:https://www.michiganiada.org/news/events/2026-6th-annual-golf-outing/
END:VEVENT
END:VCALENDAR